BEGIN:VCALENDAR
PRODID:P. E. Schall GmbH &amp; Co. KG
VERSION:2.0
CALSCALE:GREGORIAN
BEGIN:VEVENT
UID:7cacb8c73309c1348b47f8eb4fe58f88-calID-fakuma@schall-messen.de
ORGANIZER;CN="WIS  Kunststoffe GmbH":
LOCATION:Raum Berlin
SUMMARY:Nachhaltige CO2 Reduzierung durch Biokunststoffe & hochwertige PCR-Regranulate
DESCRIPTION:Präsentator Herr M. ENG. Daniel Römhild\nhttps://www.fakuma-messe.de/Fachvortrag/3765-nachhaltige-co2-reduzierung-durch-biokunststoffe-%2526-hochwertige-pcr-regranulate
CLASS:PUBLIC
TZID:Europe_Central
DTSTART:20241017T134000
DTEND:20241017T142000
DTSTAMP:20260424184602Z
END:VEVENT
END:VCALENDAR